BEGIN:VCALENDAR
VERSION:2.0
PRODID:-//Fahrschule Hess - ECPv6.15.20//NONSGML v1.0//EN
CALSCALE:GREGORIAN
METHOD:PUBLISH
X-WR-CALNAME:Fahrschule Hess
X-ORIGINAL-URL:https://fahrschule-hess.com
X-WR-CALDESC:Veranstaltungen für Fahrschule Hess
REFRESH-INTERVAL;VALUE=DURATION:PT1H
X-Robots-Tag:noindex
X-PUBLISHED-TTL:PT1H
BEGIN:VTIMEZONE
TZID:Europe/Berlin
BEGIN:DAYLIGHT
TZOFFSETFROM:+0100
TZOFFSETTO:+0200
TZNAME:CEST
DTSTART:20190331T010000
END:DAYLIGHT
BEGIN:STANDARD
TZOFFSETFROM:+0200
TZOFFSETTO:+0100
TZNAME:CET
DTSTART:20191027T010000
END:STANDARD
BEGIN:DAYLIGHT
TZOFFSETFROM:+0100
TZOFFSETTO:+0200
TZNAME:CEST
DTSTART:20200329T010000
END:DAYLIGHT
BEGIN:STANDARD
TZOFFSETFROM:+0200
TZOFFSETTO:+0100
TZNAME:CET
DTSTART:20201025T010000
END:STANDARD
BEGIN:DAYLIGHT
TZOFFSETFROM:+0100
TZOFFSETTO:+0200
TZNAME:CEST
DTSTART:20210328T010000
END:DAYLIGHT
BEGIN:STANDARD
TZOFFSETFROM:+0200
TZOFFSETTO:+0100
TZNAME:CET
DTSTART:20211031T010000
END:STANDARD
BEGIN:DAYLIGHT
TZOFFSETFROM:+0100
TZOFFSETTO:+0200
TZNAME:CEST
DTSTART:20220327T010000
END:DAYLIGHT
BEGIN:STANDARD
TZOFFSETFROM:+0200
TZOFFSETTO:+0100
TZNAME:CET
DTSTART:20221030T010000
END:STANDARD
END:VTIMEZONE
BEGIN:VEVENT
DTSTART;TZID=Europe/Berlin:20210109T080000
DTEND;TZID=Europe/Berlin:20210109T160000
DTSTAMP:20260419T155021
CREATED:20200614T165552Z
LAST-MODIFIED:20201111T182309Z
UID:1929-1610179200-1610208000@fahrschule-hess.com
SUMMARY:Modul 1 - Kinematische Kette / ECO-Training für LKW- und Busfahrer
DESCRIPTION:
URL:https://fahrschule-hess.com/termin/modul-1-kinematische-kette-eco-training-2-2-2-2/
LOCATION:Fahrsicherheitszentrum Nürburgring FSZ 1\, Nürburgring\, Germany
ORGANIZER;CN="Fahrschule Hess":MAILTO:info@fahrschule-hess.com
END:VEVENT
BEGIN:VEVENT
DTSTART;TZID=Europe/Berlin:20210104T080000
DTEND;TZID=Europe/Berlin:20210104T160000
DTSTAMP:20260419T155021
CREATED:20200614T165332Z
LAST-MODIFIED:20201111T181959Z
UID:1919-1609747200-1609776000@fahrschule-hess.com
SUMMARY:Modul 1 - Kinematische Kette / ECO-Training für LKW- und Busfahrer
DESCRIPTION:
URL:https://fahrschule-hess.com/termin/modul-1-kinematische-kette-eco-training-2-2-2/
LOCATION:Fahrsicherheitszentrum Nürburgring FSZ 1\, Nürburgring\, Germany
ORGANIZER;CN="Fahrschule Hess":MAILTO:info@fahrschule-hess.com
END:VEVENT
BEGIN:VEVENT
DTSTART;TZID=Europe/Berlin:20201024T080000
DTEND;TZID=Europe/Berlin:20201024T160000
DTSTAMP:20260419T155021
CREATED:20200614T164944Z
LAST-MODIFIED:20200614T164944Z
UID:1908-1603526400-1603555200@fahrschule-hess.com
SUMMARY:Modul 1 - Kinematische Kette / ECO-Training für LKW- und Busfahrer
DESCRIPTION:
URL:https://fahrschule-hess.com/termin/modul-1-kinematische-kette-eco-training-2-2/
LOCATION:Fahrsicherheitszentrum Nürburgring FSZ 1\, Nürburgring\, Germany
ORGANIZER;CN="Fahrschule Hess":MAILTO:info@fahrschule-hess.com
END:VEVENT
BEGIN:VEVENT
DTSTART;TZID=Europe/Berlin:20200822T080000
DTEND;TZID=Europe/Berlin:20200822T160000
DTSTAMP:20260419T155021
CREATED:20200531T072754Z
LAST-MODIFIED:20200614T163513Z
UID:1888-1598083200-1598112000@fahrschule-hess.com
SUMMARY:Modul 1 - Kinematische Kette / ECO-Training für LKW- und Busfahrer
DESCRIPTION:
URL:https://fahrschule-hess.com/termin/modul-1-kinematische-kette-eco-training-2/
LOCATION:Fahrsicherheitszentrum Nürburgring FSZ 1\, Nürburgring\, Germany
ORGANIZER;CN="Fahrschule Hess":MAILTO:info@fahrschule-hess.com
END:VEVENT
BEGIN:VEVENT
DTSTART;TZID=Europe/Berlin:20200606T080000
DTEND;TZID=Europe/Berlin:20200606T160000
DTSTAMP:20260419T155021
CREATED:20200507T060849Z
LAST-MODIFIED:20200507T093232Z
UID:1584-1591430400-1591459200@fahrschule-hess.com
SUMMARY:Modul 1 - Kinematische Kette / ECO-Training für LKW- und Busfahrer
DESCRIPTION:
URL:https://fahrschule-hess.com/termin/modul-1-kinematische-kette-eco-training/
LOCATION:Fahrsicherheitszentrum Nürburgring FSZ 1\, Nürburgring\, Germany
ORGANIZER;CN="Fahrschule Hess":MAILTO:info@fahrschule-hess.com
END:VEVENT
END:VCALENDAR