BEGIN:VCALENDAR
VERSION:2.0
PRODID:-//Fahrschule Hess - ECPv6.15.20//NONSGML v1.0//EN
CALSCALE:GREGORIAN
METHOD:PUBLISH
X-ORIGINAL-URL:https://fahrschule-hess.com
X-WR-CALDESC:Veranstaltungen für Fahrschule Hess
REFRESH-INTERVAL;VALUE=DURATION:PT1H
X-Robots-Tag:noindex
X-PUBLISHED-TTL:PT1H
BEGIN:VTIMEZONE
TZID:Europe/Berlin
BEGIN:DAYLIGHT
TZOFFSETFROM:+0100
TZOFFSETTO:+0200
TZNAME:CEST
DTSTART:20250330T010000
END:DAYLIGHT
BEGIN:STANDARD
TZOFFSETFROM:+0200
TZOFFSETTO:+0100
TZNAME:CET
DTSTART:20251026T010000
END:STANDARD
BEGIN:DAYLIGHT
TZOFFSETFROM:+0100
TZOFFSETTO:+0200
TZNAME:CEST
DTSTART:20260329T010000
END:DAYLIGHT
BEGIN:STANDARD
TZOFFSETFROM:+0200
TZOFFSETTO:+0100
TZNAME:CET
DTSTART:20261025T010000
END:STANDARD
BEGIN:DAYLIGHT
TZOFFSETFROM:+0100
TZOFFSETTO:+0200
TZNAME:CEST
DTSTART:20270328T010000
END:DAYLIGHT
BEGIN:STANDARD
TZOFFSETFROM:+0200
TZOFFSETTO:+0100
TZNAME:CET
DTSTART:20271031T010000
END:STANDARD
END:VTIMEZONE
BEGIN:VEVENT
DTSTART;TZID=Europe/Berlin:20260509T080000
DTEND;TZID=Europe/Berlin:20260509T160000
DTSTAMP:20260421T152750
CREATED:20250613T065337Z
LAST-MODIFIED:20260101T104251Z
UID:2470-1778313600-1778342400@fahrschule-hess.com
SUMMARY:Modul 5 - Schaltstelle Fahrer für LKW- und Busfahrer für LKW- und Busfahrer
DESCRIPTION:
URL:https://fahrschule-hess.com/termin/modul-5-schaltstelle-fahrer-fuer-lkw-und-busfahrer-fuer-lkw-und-busfahrer-4/
LOCATION:Zweigstelle Idar-Oberstein\, Hauptstr. 220\, Idar-Oberstein\, 55743\, Germany
ORGANIZER;CN="Fahrschule Hess":MAILTO:info@fahrschule-hess.com
END:VEVENT
END:VCALENDAR